BEGIN:VCALENDAR
VERSION:2.0
PRODID:-//Drupal iCal API//EN
X-WR-CALNAME:Events items teaser
X-WR-TIMEZONE:America/Toronto
BEGIN:VTIMEZONE
TZID:America/Toronto
X-LIC-LOCATION:America/Toronto
BEGIN:DAYLIGHT
TZNAME:EDT
TZOFFSETFROM:-0500
TZOFFSETTO:-0400
DTSTART:20180311T070000
END:DAYLIGHT
BEGIN:STANDARD
TZNAME:EST
TZOFFSETFROM:-0400
TZOFFSETTO:-0500
DTSTART:20171105T060000
END:STANDARD
END:VTIMEZONE
BEGIN:VEVENT
UID:69e764cba1c79
DTSTART;TZID=America/Toronto:20180503T130000
SEQUENCE:0
TRANSP:TRANSPARENT
DTEND;TZID=America/Toronto:20180503T130000
URL:https://uwaterloo.ca/institute-for-quantum-computing/events/above-bandg
 ap-hyperpolarization-mechanism-isotopically
LOCATION:PHY - Physics 200 University Avenue West 308 Waterloo ON N2L 3G1 C
 anada
SUMMARY:Above Bandgap Hyperpolarization Mechanism in Isotopically Purified\
 nSilicon and Optimal Bayesian Experiment Design for T1 Estimation
CLASS:PUBLIC
DESCRIPTION:[THOMAS ALEXANDER]MSC. THESIS PRESENTATION\n\nCandidate: Thomas
  Alexander
DTSTAMP:20260421T115139Z
END:VEVENT
END:VCALENDAR