BEGIN:VCALENDAR
VERSION:2.0
PRODID:-//Drupal iCal API//EN
X-WR-CALNAME:Events items teaser
X-WR-TIMEZONE:America/Toronto
BEGIN:VTIMEZONE
TZID:America/Toronto
X-LIC-LOCATION:America/Toronto
BEGIN:DAYLIGHT
TZNAME:EDT
TZOFFSETFROM:-0500
TZOFFSETTO:-0400
DTSTART:20180311T070000
END:DAYLIGHT
BEGIN:STANDARD
TZNAME:EST
TZOFFSETFROM:-0400
TZOFFSETTO:-0500
DTSTART:20171105T060000
END:STANDARD
END:VTIMEZONE
BEGIN:VEVENT
UID:69e764cf2264b
DTSTART;TZID=America/Toronto:20180503T133000
SEQUENCE:0
TRANSP:TRANSPARENT
DTEND;TZID=America/Toronto:20180503T133000
URL:https://uwaterloo.ca/institute-for-quantum-computing/events/towards-man
 y-body-physics-rydberg-dressed-cavity-polaritons
LOCATION:PHY - Physics 200 University Avenue West 352 Waterloo ON N2L 3G1 C
 anada
SUMMARY:Towards many-body physics with Rydberg-dressed cavity polaritons
CLASS:PUBLIC
DESCRIPTION:M.SC. THESIS PRESENTATION\n\nCandidate: Hyeran Kong
DTSTAMP:20260421T115143Z
END:VEVENT
END:VCALENDAR