BEGIN:VCALENDAR
VERSION:2.0
PRODID:-//Drupal iCal API//EN
X-WR-CALNAME:Events items teaser
X-WR-TIMEZONE:America/Toronto
BEGIN:VTIMEZONE
TZID:America/Toronto
X-LIC-LOCATION:America/Toronto
BEGIN:DAYLIGHT
TZNAME:EDT
TZOFFSETFROM:-0500
TZOFFSETTO:-0400
DTSTART:20180311T070000
END:DAYLIGHT
BEGIN:STANDARD
TZNAME:EST
TZOFFSETFROM:-0400
TZOFFSETTO:-0500
DTSTART:20171105T060000
END:STANDARD
END:VTIMEZONE
BEGIN:VEVENT
UID:69e715d1e4307
DTSTART;TZID=America/Toronto:20180523T131500
SEQUENCE:0
TRANSP:TRANSPARENT
DTEND;TZID=America/Toronto:20180523T131500
URL:https://uwaterloo.ca/institute-for-quantum-computing/events/maximal-coh
 erence-and-resource-theory-purity
LOCATION:QNC - Quantum Nano Centre 200 University Avenue West 1201 Waterloo
  ON N2L 3G1 Canada
SUMMARY:Maximal Coherence and the Resource Theory of Purity
CLASS:PUBLIC
DESCRIPTION:DAGMAR BRUSS\, UNIVERSITY OF DUESSELDORF\n\nThe resource theor
 y of quantum coherence studies the off-diagonal\nelements of a density mat
 rix in a distinguished basis\, whereas the\nresource theory of purity stud
 ies all deviations from the maximally\nmixed state. We establish a direct 
 connection between the two resource\ntheories\, by identifying purity as t
 he maximal coherence\, which is\nachievable by unitary operations. The sta
 tes that saturate this\nmaximum identify a universal family of maximally c
 oherent mixed\nstates.
DTSTAMP:20260421T061441Z
END:VEVENT
END:VCALENDAR