BEGIN:VCALENDAR
VERSION:2.0
PRODID:-//Drupal iCal API//EN
X-WR-CALNAME:Events items teaser
X-WR-TIMEZONE:America/Toronto
BEGIN:VTIMEZONE
TZID:America/Toronto
X-LIC-LOCATION:America/Toronto
BEGIN:DAYLIGHT
TZNAME:EDT
TZOFFSETFROM:-0500
TZOFFSETTO:-0400
DTSTART:20180311T070000
END:DAYLIGHT
BEGIN:STANDARD
TZNAME:EST
TZOFFSETFROM:-0400
TZOFFSETTO:-0500
DTSTART:20171105T060000
END:STANDARD
END:VTIMEZONE
BEGIN:VEVENT
UID:69e6cb2c84299
DTSTART;TZID=America/Toronto:20180531T110000
SEQUENCE:0
TRANSP:TRANSPARENT
DTEND;TZID=America/Toronto:20180531T110000
URL:https://uwaterloo.ca/institute-for-quantum-computing/events/dissipative
 -stabilization-and-manipulation-schrodinger-cat
LOCATION:QNC - Quantum Nano Centre 200 University Avenue West 1501 Waterloo
  ON N2L 3G1 Canada
SUMMARY:Dissipative stabilization and manipulation of Schrödinger cat stat
 es\nfor quantum error correction
CLASS:PUBLIC
DESCRIPTION:ALEXANDER GRIMM\, YALE UNIVERSITY\n\nIn recent years\, circuit 
 quantum electrodynamics (QED) has seen\nconsiderable efforts towards prote
 cting quantum information from\nunwanted sources of decoherence through qu
 antum error correction.\nIndependent of the implementation\, this is based
  on encoding a logical\nqubit into a stable manifold within a larger Hilbe
 rt space\, whose\nsymmetries restrict the number of independent errors and
  make them\ndetectable and correctable.
DTSTAMP:20260421T005612Z
END:VEVENT
END:VCALENDAR