BEGIN:VCALENDAR
VERSION:2.0
PRODID:-//Drupal iCal API//EN
X-WR-CALNAME:Events items teaser
X-WR-TIMEZONE:America/Toronto
BEGIN:VTIMEZONE
TZID:America/Toronto
X-LIC-LOCATION:America/Toronto
BEGIN:DAYLIGHT
TZNAME:EDT
TZOFFSETFROM:-0500
TZOFFSETTO:-0400
DTSTART:20180311T070000
END:DAYLIGHT
BEGIN:STANDARD
TZNAME:EST
TZOFFSETFROM:-0400
TZOFFSETTO:-0500
DTSTART:20171105T060000
END:STANDARD
END:VTIMEZONE
BEGIN:VEVENT
UID:69e764c4226e9
DTSTART;TZID=America/Toronto:20180601T100000
SEQUENCE:0
TRANSP:TRANSPARENT
DTEND;TZID=America/Toronto:20180601T100000
URL:https://uwaterloo.ca/institute-for-quantum-computing/events/extensible-
 architecture-superconducting-quantum-computing
LOCATION:EIT - Centre for Environmental and Information Technology 200 Univ
 ersity Avenue West 3142 Waterloo ON N2L 3G1 Canada
SUMMARY:Extensible Architecture for Superconducting Quantum Computing
CLASS:PUBLIC
DESCRIPTION:PHD THESIS PRESENTATION\n\nCandidate: Thomas McConkey\n\nSuperv
 isors\, Matteo Mariantoni\, Amir H. Majedi. On display in the\nEngineerin
 g graduate studies office\, DWE 3520C. Oral defence Friday\,\nJune 1\, 10:
 00 a.m.\, EIT 3142.
DTSTAMP:20260421T115132Z
END:VEVENT
END:VCALENDAR