BEGIN:VCALENDAR
VERSION:2.0
PRODID:-//Drupal iCal API//EN
X-WR-CALNAME:Events items teaser
X-WR-TIMEZONE:America/Toronto
BEGIN:VTIMEZONE
TZID:America/Toronto
X-LIC-LOCATION:America/Toronto
BEGIN:DAYLIGHT
TZNAME:EDT
TZOFFSETFROM:-0500
TZOFFSETTO:-0400
DTSTART:20180311T070000
END:DAYLIGHT
BEGIN:STANDARD
TZNAME:EST
TZOFFSETFROM:-0400
TZOFFSETTO:-0500
DTSTART:20171105T060000
END:STANDARD
END:VTIMEZONE
BEGIN:VEVENT
UID:69e764d032b50
DTSTART;TZID=America/Toronto:20180604T133000
SEQUENCE:0
TRANSP:TRANSPARENT
DTEND;TZID=America/Toronto:20180604T133000
URL:https://uwaterloo.ca/institute-for-quantum-computing/events/structured-
 beams-quantum-probes
LOCATION:RAC - Research Advancement Centre 475 Wes Graham Way 2009 Waterloo
  ON N2L 6R2 Canada
SUMMARY:Structured Beams as Quantum Probes
CLASS:PUBLIC
DESCRIPTION:PHD THESIS PRESENTATION\n\n[DUSAN SARENAC]CANDIDATE: DUSAN SARE
 NAC\n\nSupervisor: David Cory\n\nOn deposit in the Science graduate office
 \, PHY 2013.\nOral defence Monday\, June 4\, 1:30 p.m.\, RAC 2009.
DTSTAMP:20260421T115144Z
END:VEVENT
END:VCALENDAR