BEGIN:VCALENDAR
VERSION:2.0
PRODID:-//Drupal iCal API//EN
X-WR-CALNAME:Events items teaser
X-WR-TIMEZONE:America/Toronto
BEGIN:VTIMEZONE
TZID:America/Toronto
X-LIC-LOCATION:America/Toronto
BEGIN:DAYLIGHT
TZNAME:EDT
TZOFFSETFROM:-0500
TZOFFSETTO:-0400
DTSTART:20180311T070000
END:DAYLIGHT
BEGIN:STANDARD
TZNAME:EST
TZOFFSETFROM:-0400
TZOFFSETTO:-0500
DTSTART:20171105T060000
END:STANDARD
END:VTIMEZONE
BEGIN:VEVENT
UID:69e71f40a3829
DTSTART;TZID=America/Toronto:20180706T090000
SEQUENCE:0
TRANSP:TRANSPARENT
DTEND;TZID=America/Toronto:20180706T090000
URL:https://uwaterloo.ca/institute-for-quantum-computing/events/ppln-based-
 photon-pair-sources-toward-biphoton-quantum
LOCATION:QNC - Quantum Nano Centre 200 University Avenue West 0101 Waterloo
  ON N2L 3G1 Canada
SUMMARY:PPLN-based photon pair sources toward biphoton quantum frequency
CLASS:PUBLIC
DESCRIPTION:PHD THESIS PRESENTATION\n\n[Aimee gunther]Candidate: Aimee Gunt
 her
DTSTAMP:20260421T065456Z
END:VEVENT
END:VCALENDAR