BEGIN:VCALENDAR
VERSION:2.0
PRODID:-//Drupal iCal API//EN
X-WR-CALNAME:Events items teaser
X-WR-TIMEZONE:America/Toronto
BEGIN:VTIMEZONE
TZID:America/Toronto
X-LIC-LOCATION:America/Toronto
BEGIN:DAYLIGHT
TZNAME:EDT
TZOFFSETFROM:-0500
TZOFFSETTO:-0400
DTSTART:20180311T070000
END:DAYLIGHT
BEGIN:STANDARD
TZNAME:EST
TZOFFSETFROM:-0400
TZOFFSETTO:-0500
DTSTART:20171105T060000
END:STANDARD
END:VTIMEZONE
BEGIN:VEVENT
UID:69e6cb2c05d6e
DTSTART;TZID=America/Toronto:20180628T100000
SEQUENCE:0
TRANSP:TRANSPARENT
DTEND;TZID=America/Toronto:20180628T100000
URL:https://uwaterloo.ca/institute-for-quantum-computing/events/selection-u
 nitary-operations-quantum-secret-sharing
LOCATION:QNC - Quantum Nano Centre 200 University Avenue West 1201 Waterloo
  ON N2L 3G1 Canada
SUMMARY:Selection of unitary operations in quantum secret sharing protocols
 \nwithout entanglement
CLASS:PUBLIC
DESCRIPTION:JUAN XU - NANJING UNIVERSITY OF AERONAUTICS AND ASTRONAUTICS\n\
 nQuantum secret sharing (QSS) mainly deals with the splitting and\ndistrib
 uting of an arbitrary secret among n sharers using quantum\nresources. Whi
 le quantum secret sharing schemes often use shared\nentangled states\, it 
 is also possible to define a notion of quantum\nsecret sharing without the
  use of entangled states.
DTSTAMP:20260421T005612Z
END:VEVENT
END:VCALENDAR