BEGIN:VCALENDAR
VERSION:2.0
PRODID:-//Drupal iCal API//EN
X-WR-CALNAME:Events items teaser
X-WR-TIMEZONE:America/Toronto
BEGIN:VTIMEZONE
TZID:America/Toronto
X-LIC-LOCATION:America/Toronto
BEGIN:DAYLIGHT
TZNAME:EDT
TZOFFSETFROM:-0500
TZOFFSETTO:-0400
DTSTART:20180311T070000
END:DAYLIGHT
BEGIN:STANDARD
TZNAME:EST
TZOFFSETFROM:-0400
TZOFFSETTO:-0500
DTSTART:20171105T060000
END:STANDARD
END:VTIMEZONE
BEGIN:VEVENT
UID:69e71f46df295
DTSTART;TZID=America/Toronto:20180704T110000
SEQUENCE:0
TRANSP:TRANSPARENT
DTEND;TZID=America/Toronto:20180704T110000
URL:https://uwaterloo.ca/institute-for-quantum-computing/events/nonlocal-ga
 mes-synchronous-correlations
LOCATION:QNC - Quantum Nano Centre 200 University Avenue West 1501 Waterloo
  ON N2L 3G1 Canada
SUMMARY:Nonlocal games with synchronous correlations
CLASS:PUBLIC
DESCRIPTION:BRAD LACKEY\, UNIVERSITY OF MARYLAND\n\nA nonlocal game with a 
 synchronous correlation is the ideal protocol\nfor quantum key distributio
 n. In this work we examine analogues of\nBell's inequalities for synchrono
 us correlations. We show that unlike\nin the nonsynchronous case (e.g. wit
 h the CHSH inequality) there can\nbe no quantum Bell violation among synch
 ronous correlations with two\nmeasurement settings. However we exhibit exp
 licit analogues of Bell's\ninequalities for synchronous correlation with t
 hree measurement\nsettings and two outputs that do admit quantum violation
 s.
DTSTAMP:20260421T065502Z
END:VEVENT
END:VCALENDAR