BEGIN:VCALENDAR
VERSION:2.0
PRODID:-//Drupal iCal API//EN
X-WR-CALNAME:Events items teaser
X-WR-TIMEZONE:America/Toronto
BEGIN:VTIMEZONE
TZID:America/Toronto
X-LIC-LOCATION:America/Toronto
BEGIN:DAYLIGHT
TZNAME:EDT
TZOFFSETFROM:-0500
TZOFFSETTO:-0400
DTSTART:20180311T070000
END:DAYLIGHT
BEGIN:STANDARD
TZNAME:EST
TZOFFSETFROM:-0400
TZOFFSETTO:-0500
DTSTART:20171105T060000
END:STANDARD
END:VTIMEZONE
BEGIN:VEVENT
UID:69e715d4e0659
DTSTART;TZID=America/Toronto:20180717T140000
SEQUENCE:0
TRANSP:TRANSPARENT
DTEND;TZID=America/Toronto:20180717T140000
URL:https://uwaterloo.ca/institute-for-quantum-computing/events/ground-stat
 es-linear-rotor-chains-density-matrix
LOCATION:QNC - Quantum Nano Centre 200 University Avenue West 4104 Waterloo
  ON N2L 3G1 Canada
SUMMARY:Ground states of linear rotor chains via the density matrix\nrenorm
 alization group
CLASS:PUBLIC
DESCRIPTION:DMITRI IOUCHTCHENKO\n\nIt has been suggested that placing dipol
 ar linear rotors in\none-dimensional lattices at zero temperature results 
 in a model that\nhas a transition between ordered and disordered phases. W
 e use the\ndensity matrix renormalization group (DMRG) to compute ground s
 tates\nof this model near the critical point to provide further evidence o
 f\nthe phase transition. In particular\, we numerically demonstrate\ndiver
 gences in both the entanglement entropy and the correlation\nlength.\n\n
 ​
DTSTAMP:20260421T061444Z
END:VEVENT
END:VCALENDAR