BEGIN:VCALENDAR
VERSION:2.0
PRODID:-//Drupal iCal API//EN
X-WR-CALNAME:Events items teaser
X-WR-TIMEZONE:America/Toronto
BEGIN:VTIMEZONE
TZID:America/Toronto
X-LIC-LOCATION:America/Toronto
BEGIN:DAYLIGHT
TZNAME:EDT
TZOFFSETFROM:-0500
TZOFFSETTO:-0400
DTSTART:20180311T070000
END:DAYLIGHT
BEGIN:STANDARD
TZNAME:EST
TZOFFSETFROM:-0400
TZOFFSETTO:-0500
DTSTART:20171105T060000
END:STANDARD
END:VTIMEZONE
BEGIN:VEVENT
UID:69e71f460f772
DTSTART;TZID=America/Toronto:20180720T100000
SEQUENCE:0
TRANSP:TRANSPARENT
DTEND;TZID=America/Toronto:20180720T100000
URL:https://uwaterloo.ca/institute-for-quantum-computing/events/computation
 al-problems-related-open-quantum-systems
LOCATION:QNC - Quantum Nano Centre 200 University Avenue West B204 Waterloo
  ON N2L 3G1 Canada
SUMMARY:Computational Problems Related to Open Quantum Systems
CLASS:PUBLIC
DESCRIPTION:PHD THESIS PRESENTATION\n\nCandidate: Chunhao Wang
DTSTAMP:20260421T065502Z
END:VEVENT
END:VCALENDAR