BEGIN:VCALENDAR
VERSION:2.0
PRODID:-//Drupal iCal API//EN
X-WR-CALNAME:Events items teaser
X-WR-TIMEZONE:America/Toronto
BEGIN:VTIMEZONE
TZID:America/Toronto
X-LIC-LOCATION:America/Toronto
BEGIN:DAYLIGHT
TZNAME:EDT
TZOFFSETFROM:-0500
TZOFFSETTO:-0400
DTSTART:20180311T070000
END:DAYLIGHT
BEGIN:STANDARD
TZNAME:EST
TZOFFSETFROM:-0400
TZOFFSETTO:-0500
DTSTART:20171105T060000
END:STANDARD
END:VTIMEZONE
BEGIN:VEVENT
UID:69e6a26375bf5
DTSTART;TZID=America/Toronto:20180803T140000
SEQUENCE:0
TRANSP:TRANSPARENT
DTEND;TZID=America/Toronto:20180803T140000
URL:https://uwaterloo.ca/institute-for-quantum-computing/events/past-quantu
 m-state-continuous-variable-systems
LOCATION:QNC - Quantum Nano Centre 200 University Avenue West 0101 Waterloo
  ON N2L 3G1 Canada
SUMMARY:Past quantum state for continuous variable systems
CLASS:PUBLIC
DESCRIPTION:JINGLEI ZHANG\, AARHUS UNIVERSITY\n\nWhen a quantum system is 
 monitored with a sequence of measurements\,\nits evolution is given by a s
 tochastic quantum trajectory. At any time\nthe state\, and therefore any p
 rediction we can make about an\nobservable\, is dependent on previous meas
 urement outcomes. Past\nquantum state\, on the other hand\, is a general t
 heory that allows us\nto include the information collected about the syste
 m with later\nmeasurements.
DTSTAMP:20260420T220211Z
END:VEVENT
END:VCALENDAR