BEGIN:VCALENDAR
VERSION:2.0
PRODID:-//Drupal iCal API//EN
X-WR-CALNAME:Events items teaser
X-WR-TIMEZONE:America/Toronto
BEGIN:VTIMEZONE
TZID:America/Toronto
X-LIC-LOCATION:America/Toronto
BEGIN:DAYLIGHT
TZNAME:EDT
TZOFFSETFROM:-0500
TZOFFSETTO:-0400
DTSTART:20180311T070000
END:DAYLIGHT
BEGIN:STANDARD
TZNAME:EST
TZOFFSETFROM:-0400
TZOFFSETTO:-0500
DTSTART:20171105T060000
END:STANDARD
END:VTIMEZONE
BEGIN:VEVENT
UID:69e6a25f06834
DTSTART;TZID=America/Toronto:20180809T120000
SEQUENCE:0
TRANSP:TRANSPARENT
DTEND;TZID=America/Toronto:20180809T120000
URL:https://uwaterloo.ca/institute-for-quantum-computing/events/spatial-iso
 lation-implies-unconditional-zero-knowledge-even
LOCATION:QNC - Quantum Nano Centre 200 University Avenue West 1501 Waterloo
  ON N2L 3G1 Canada
SUMMARY:Spatial Isolation Implies Unconditional Zero Knowledge\, Even With\
 nEntanglement
CLASS:PUBLIC
DESCRIPTION:NICK SPOONER\, UNIVERSITY OF SOUTHERN CALIFORNIA\, BERKELEY\n\n
 Understanding the computational power of multi-prover interactive\nproofs 
 where the provers may share entanglement -- the complexity\nclass MIP* -- 
 is a central question in quantum computation. In 2012\,\nIto and Vidick sh
 owed that this model is at least as powerful as MIP\,\ni.e. NEXP is contai
 ned in MIP*.
DTSTAMP:20260420T220207Z
END:VEVENT
END:VCALENDAR