BEGIN:VCALENDAR
VERSION:2.0
PRODID:-//Drupal iCal API//EN
X-WR-CALNAME:Events items teaser
X-WR-TIMEZONE:America/Toronto
BEGIN:VTIMEZONE
TZID:America/Toronto
X-LIC-LOCATION:America/Toronto
BEGIN:DAYLIGHT
TZNAME:EDT
TZOFFSETFROM:-0500
TZOFFSETTO:-0400
DTSTART:20180311T070000
END:DAYLIGHT
BEGIN:STANDARD
TZNAME:EST
TZOFFSETFROM:-0400
TZOFFSETTO:-0500
DTSTART:20171105T060000
END:STANDARD
END:VTIMEZONE
BEGIN:VEVENT
UID:69e6a26166db6
DTSTART;TZID=America/Toronto:20180809T130000
SEQUENCE:0
TRANSP:TRANSPARENT
DTEND;TZID=America/Toronto:20180809T130000
URL:https://uwaterloo.ca/institute-for-quantum-computing/events/quantum-com
 puting-alibaba-group
LOCATION:QNC - Quantum Nano Centre 1501 Canada
SUMMARY:Quantum computing at Alibaba Group
CLASS:PUBLIC
DESCRIPTION:YAOYUN SHI\, DIRECTOR\, ALIBABA QUANTUM LABORATORY (AQL)\n\nI w
 ill take this opportunity to share with the Waterloo quantum\ncommunity th
 e thinkings behind Alibaba Group's quantum computing\nprogram and our main
  activities. Questions and comments from the\naudience are welcome.\n\nABO
 UT THE SPEAKER: Yaoyun Shi is a computer scientist trained at\nBeijing Uni
 versity\, Princeton\, and Caltech. He taught at University of\nMichigan be
 fore moving to Alibaba to launch its quantum computing\nprogram.
DTSTAMP:20260420T220209Z
END:VEVENT
END:VCALENDAR