BEGIN:VCALENDAR
VERSION:2.0
PRODID:-//Drupal iCal API//EN
X-WR-CALNAME:Events items teaser
X-WR-TIMEZONE:America/Toronto
BEGIN:VTIMEZONE
TZID:America/Toronto
X-LIC-LOCATION:America/Toronto
BEGIN:DAYLIGHT
TZNAME:EDT
TZOFFSETFROM:-0500
TZOFFSETTO:-0400
DTSTART:20180311T070000
END:DAYLIGHT
BEGIN:STANDARD
TZNAME:EST
TZOFFSETFROM:-0400
TZOFFSETTO:-0500
DTSTART:20171105T060000
END:STANDARD
END:VTIMEZONE
BEGIN:VEVENT
UID:69e688d7cd44c
DTSTART;TZID=America/Toronto:20180815T143000
SEQUENCE:0
TRANSP:TRANSPARENT
DTEND;TZID=America/Toronto:20180815T143000
URL:https://uwaterloo.ca/institute-for-quantum-computing/events/phd-thesis-
 defence-0
LOCATION:QNC - Quantum Nano Centre B204 Canada
SUMMARY:PhD Thesis Defence
CLASS:PUBLIC
DESCRIPTION:EXPLORING PRACTICAL METHODOLOGIES FOR THE CHARACTERIZATION AND 
 CONTROL\nOF SMALL QUANTUM SYSTEMS\n\nPhD Candidate: Ian Hincks\nSupervisor
 s: David Cory\, Joseph Emerson\n\nThesis available from MGO - mgo@uwaterlo
 o.ca
DTSTAMP:20260420T201311Z
END:VEVENT
END:VCALENDAR