BEGIN:VCALENDAR
VERSION:2.0
PRODID:-//Drupal iCal API//EN
X-WR-CALNAME:Events items teaser
X-WR-TIMEZONE:America/Toronto
BEGIN:VTIMEZONE
TZID:America/Toronto
X-LIC-LOCATION:America/Toronto
BEGIN:DAYLIGHT
TZNAME:EDT
TZOFFSETFROM:-0500
TZOFFSETTO:-0400
DTSTART:20180311T070000
END:DAYLIGHT
BEGIN:STANDARD
TZNAME:EST
TZOFFSETFROM:-0400
TZOFFSETTO:-0500
DTSTART:20171105T060000
END:STANDARD
END:VTIMEZONE
BEGIN:VEVENT
UID:69e688d950c52
DTSTART;TZID=America/Toronto:20180816T130000
SEQUENCE:0
TRANSP:TRANSPARENT
DTEND;TZID=America/Toronto:20180816T130000
URL:https://uwaterloo.ca/institute-for-quantum-computing/events/phd-thesis-
 presentation-1
LOCATION:MC - Mathematics &amp; Computer Building 200 University Avenue West 64
 60 Waterloo ON N2L 3G1 Canada
SUMMARY:PhD Thesis Presentation
CLASS:PUBLIC
DESCRIPTION:ENTANGLEMENT IN SINGLE-SHOT QUANTUM CHANNEL DISCRIMINATION\n\nP
 hD candidate: Daniel Puzzuoli\nSupervisor: John Watrous\n\nThesis availabl
 e from MGO - mgo@uwaterloo.ca
DTSTAMP:20260420T201313Z
END:VEVENT
END:VCALENDAR