BEGIN:VCALENDAR
VERSION:2.0
PRODID:-//Drupal iCal API//EN
X-WR-CALNAME:Events items teaser
X-WR-TIMEZONE:America/Toronto
BEGIN:VTIMEZONE
TZID:America/Toronto
X-LIC-LOCATION:America/Toronto
BEGIN:DAYLIGHT
TZNAME:EDT
TZOFFSETFROM:-0500
TZOFFSETTO:-0400
DTSTART:20180311T070000
END:DAYLIGHT
BEGIN:STANDARD
TZNAME:EST
TZOFFSETFROM:-0400
TZOFFSETTO:-0500
DTSTART:20171105T060000
END:STANDARD
END:VTIMEZONE
BEGIN:VEVENT
UID:69e6bbc9d8f17
DTSTART;TZID=America/Toronto:20180917T143000
SEQUENCE:0
TRANSP:TRANSPARENT
DTEND;TZID=America/Toronto:20180917T143000
URL:https://uwaterloo.ca/institute-for-quantum-computing/events/quantum-ann
 ealing-non-stoquastic-hamiltonians
LOCATION:QNC - Quantum Nano Centre 200 University Avenue West 0101 Waterloo
  ON N2L 3G1 Canada
SUMMARY:Quantum Annealing with Non-stoquastic Hamiltonians
CLASS:PUBLIC
DESCRIPTION:IQC COLLOQUIUM - LAYLA HORMOZI\, IQC\n\nWe study the role of Ha
 miltonian complexity in the performance of\nquantum annealers. It is well-
 known that non-stoquastic Hamiltonians\nare more complex than stoquastic H
 amiltonians and universal adiabatic\nquantum computing is possible when th
 ey are employed. Here we ask\nwhether utilizing non-stoquastic Hamiltonian
 s in quantum annealers can\nlead to a better performance in solving optimi
 zation problems.
DTSTAMP:20260420T235033Z
END:VEVENT
END:VCALENDAR