BEGIN:VCALENDAR
VERSION:2.0
PRODID:-//Drupal iCal API//EN
X-WR-CALNAME:Events items teaser
X-WR-TIMEZONE:America/Toronto
BEGIN:VTIMEZONE
TZID:America/Toronto
X-LIC-LOCATION:America/Toronto
BEGIN:DAYLIGHT
TZNAME:EDT
TZOFFSETFROM:-0500
TZOFFSETTO:-0400
DTSTART:20180311T070000
END:DAYLIGHT
BEGIN:STANDARD
TZNAME:EST
TZOFFSETFROM:-0400
TZOFFSETTO:-0500
DTSTART:20171105T060000
END:STANDARD
END:VTIMEZONE
BEGIN:VEVENT
UID:69e67c0ced3ec
DTSTART;TZID=America/Toronto:20181002T130000
SEQUENCE:0
TRANSP:TRANSPARENT
DTEND;TZID=America/Toronto:20181002T130000
URL:https://uwaterloo.ca/institute-for-quantum-computing/events/client-frie
 ndly-continuous-variable-blind-and-verifiable
LOCATION:QNC - Quantum Nano Centre 200 University Avenue West 1201 Waterloo
  ON N2L 3G1 Canada
SUMMARY:Client-friendly continuous-variable blind and verifiable quantum\nc
 omputing
CLASS:PUBLIC
DESCRIPTION:NANA LIU\, CENTRE FOR QUANTUM TECHNOLOGIES\n\nWe present a veri
 fiable and blind protocol for assisted universal\nquantum computing on con
 tinuous-variable (CV) platforms. This protocol\nis highly experimentally-f
 riendly to the client\, as it only requires\nGaussianoperation capabilitie
 s from the latter. Moreover\, the server\nis not required universal quantu
 m-computational power either\, its only\nfunction being to supply the clie
 nt with copies of a single-mode\nnon-Gaussian state. Universality is attai
 ned based on state-injection\nof the serverʼs non-Gaussian supplies.
DTSTAMP:20260420T191836Z
END:VEVENT
END:VCALENDAR