BEGIN:VCALENDAR
VERSION:2.0
PRODID:-//Drupal iCal API//EN
X-WR-CALNAME:Events items teaser
X-WR-TIMEZONE:America/Toronto
BEGIN:VTIMEZONE
TZID:America/Toronto
X-LIC-LOCATION:America/Toronto
BEGIN:DAYLIGHT
TZNAME:EDT
TZOFFSETFROM:-0500
TZOFFSETTO:-0400
DTSTART:20180311T070000
END:DAYLIGHT
BEGIN:STANDARD
TZNAME:EST
TZOFFSETFROM:-0400
TZOFFSETTO:-0500
DTSTART:20171105T060000
END:STANDARD
END:VTIMEZONE
BEGIN:VEVENT
UID:69e688e2d2817
DTSTART;TZID=America/Toronto:20181005T090000
SEQUENCE:0
TRANSP:TRANSPARENT
DTEND;TZID=America/Toronto:20181005T090000
URL:https://uwaterloo.ca/institute-for-quantum-computing/events/new-methods
 -quantum-error-correction-and-fault-tolerant
LOCATION:QNC - Quantum Nano Centre 200 University Avenue West 1201 Waterloo
  ON N2L 3G1 Canada
SUMMARY:New methods in quantum error correction and fault-tolerant quantum\
 ncomputing
CLASS:PUBLIC
DESCRIPTION:PHD THESIS PRESENTATION\n\nCandidate: Christopher Chamberland\
 , Physics and Astronomy\n\nSupervisor: Raymond Laflamme
DTSTAMP:20260420T201322Z
END:VEVENT
END:VCALENDAR