BEGIN:VCALENDAR
VERSION:2.0
PRODID:-//Drupal iCal API//EN
X-WR-CALNAME:Events items teaser
X-WR-TIMEZONE:America/Toronto
BEGIN:VTIMEZONE
TZID:America/Toronto
X-LIC-LOCATION:America/Toronto
BEGIN:DAYLIGHT
TZNAME:EDT
TZOFFSETFROM:-0500
TZOFFSETTO:-0400
DTSTART:20180311T070000
END:DAYLIGHT
BEGIN:STANDARD
TZNAME:EST
TZOFFSETFROM:-0400
TZOFFSETTO:-0500
DTSTART:20171105T060000
END:STANDARD
END:VTIMEZONE
BEGIN:VEVENT
UID:69e6a261e783c
DTSTART;TZID=America/Toronto:20181009T160000
SEQUENCE:0
TRANSP:TRANSPARENT
DTEND;TZID=America/Toronto:20181009T160000
URL:https://uwaterloo.ca/institute-for-quantum-computing/events/few-body-ph
 ysics-rydberg-atoms
LOCATION:QNC - Quantum Nano Centre 200 University Avenue West 3401 Waterloo
  ON N2L 3G1 Canada
SUMMARY:Few-body physics in Rydberg atoms
CLASS:PUBLIC
DESCRIPTION:LIDA ZHANG\, TEXAS A&amp;M UNIVERSITY\n\nRydberg atoms\, which poss
 ess large-dipole moments and the resulting\nstrong dipole- dipole interact
 ions\, have been intensively investigated\nowing to its potential applicat
 ions in diverse fields ranging from\nquantum nonlinear optics to quantum i
 nformation and computation.\nExclusive examples includes photon blockade\,
  attractive photons and\nsingle-photon transistors\, to mention a few.
DTSTAMP:20260420T220209Z
END:VEVENT
END:VCALENDAR