BEGIN:VCALENDAR
VERSION:2.0
PRODID:-//Drupal iCal API//EN
X-WR-CALNAME:Events items teaser
X-WR-TIMEZONE:America/Toronto
BEGIN:VTIMEZONE
TZID:America/Toronto
X-LIC-LOCATION:America/Toronto
BEGIN:DAYLIGHT
TZNAME:EDT
TZOFFSETFROM:-0500
TZOFFSETTO:-0400
DTSTART:20180311T070000
END:DAYLIGHT
BEGIN:STANDARD
TZNAME:EST
TZOFFSETFROM:-0400
TZOFFSETTO:-0500
DTSTART:20181104T060000
END:STANDARD
END:VTIMEZONE
BEGIN:VEVENT
UID:69e603219fad0
DTSTART;TZID=America/Toronto:20190128T143000
SEQUENCE:0
TRANSP:TRANSPARENT
DTEND;TZID=America/Toronto:20190128T143000
URL:https://uwaterloo.ca/institute-for-quantum-computing/events/european-sp
 allation-source-next-generation-neutron-facility
LOCATION:QNC - Quantum Nano Centre 200 University Avenue West 0101 Waterloo
  ON N2L 3G1 Canada
SUMMARY:The European Spallation Source: The Next-Generation Neutron Facilit
 y
CLASS:PUBLIC
DESCRIPTION:KEN ANDERSEN\, NEUTRON INSTRUMENTS DIVISION\, EUROPEAN SPALLATI
 ON SOURCE\nERIC\n\nThe European Spallation Source is currently under const
 ruction in\nLund\, Sweden. It is designed to provide world-leading perform
 ance\,\nwith instruments optimized for the long-pulse time structure of th
 e\nfacility\, making full use of the world’s brightest neutron beams for
 \nthe study of materials ranging from biological systems and soft matter\n
 to engineering materials\, structural chemistry and magnetism.
DTSTAMP:20260420T104241Z
END:VEVENT
END:VCALENDAR