BEGIN:VCALENDAR
VERSION:2.0
PRODID:-//Drupal iCal API//EN
X-WR-CALNAME:Events items teaser
X-WR-TIMEZONE:America/Toronto
BEGIN:VTIMEZONE
TZID:America/Toronto
X-LIC-LOCATION:America/Toronto
BEGIN:DAYLIGHT
TZNAME:EDT
TZOFFSETFROM:-0500
TZOFFSETTO:-0400
DTSTART:20180311T070000
END:DAYLIGHT
BEGIN:STANDARD
TZNAME:EST
TZOFFSETFROM:-0400
TZOFFSETTO:-0500
DTSTART:20181104T060000
END:STANDARD
END:VTIMEZONE
BEGIN:VEVENT
UID:69e69297a4304
DTSTART;TZID=America/Toronto:20181129T173000
SEQUENCE:0
TRANSP:TRANSPARENT
DTEND;TZID=America/Toronto:20181129T173000
URL:https://uwaterloo.ca/institute-for-quantum-computing/events/femphys-men
 toring-night
LOCATION:Perimeter Institute 31 Caroline Street North Waterloo ON N2L 2YS C
 anada
SUMMARY:FemPhys mentoring night
CLASS:PUBLIC
DESCRIPTION:FemPhys' annual mentoring night is back! And this time we are\n
 co-hosting it with the Perimeter Institute. \n\nCome meet and mingle with
  tons of STEM mentors from all over the\nworld. Free food will be provided
  by Perimeter's amazing Black Hole\nBistro.
DTSTAMP:20260420T205447Z
END:VEVENT
END:VCALENDAR