BEGIN:VCALENDAR
VERSION:2.0
PRODID:-//Drupal iCal API//EN
X-WR-CALNAME:Events items teaser
X-WR-TIMEZONE:America/Toronto
BEGIN:VTIMEZONE
TZID:America/Toronto
X-LIC-LOCATION:America/Toronto
BEGIN:DAYLIGHT
TZNAME:EDT
TZOFFSETFROM:-0500
TZOFFSETTO:-0400
DTSTART:20180311T070000
END:DAYLIGHT
BEGIN:STANDARD
TZNAME:EST
TZOFFSETFROM:-0400
TZOFFSETTO:-0500
DTSTART:20181104T060000
END:STANDARD
END:VTIMEZONE
BEGIN:VEVENT
UID:69e67bfdef78e
DTSTART;TZID=America/Toronto:20181126T140000
SEQUENCE:0
TRANSP:TRANSPARENT
DTEND;TZID=America/Toronto:20181126T140000
URL:https://uwaterloo.ca/institute-for-quantum-computing/events/phd-seminar
 -perfect-embezzlement-entanglement
LOCATION:QNC - Quantum Nano Centre 200 University Avenue West 1201 Waterloo
  ON N2L 3G1 Canada
SUMMARY:PhD Seminar • Perfect embezzlement of entanglement
CLASS:PUBLIC
DESCRIPTION:LI LIU \n\nEntanglement is a type of resource used in quantum i
 nformation theory\nthat gives correlations that cannot be simulated using 
 classical\nprobability theory. It is known that entanglement cannot be cre
 ated\nlocally. 
DTSTAMP:20260420T191821Z
END:VEVENT
END:VCALENDAR