BEGIN:VCALENDAR
VERSION:2.0
PRODID:-//Drupal iCal API//EN
X-WR-CALNAME:Events items teaser
X-WR-TIMEZONE:America/Toronto
BEGIN:VTIMEZONE
TZID:America/Toronto
X-LIC-LOCATION:America/Toronto
BEGIN:DAYLIGHT
TZNAME:EDT
TZOFFSETFROM:-0500
TZOFFSETTO:-0400
DTSTART:20180311T070000
END:DAYLIGHT
BEGIN:STANDARD
TZNAME:EST
TZOFFSETFROM:-0400
TZOFFSETTO:-0500
DTSTART:20181104T060000
END:STANDARD
END:VTIMEZONE
BEGIN:VEVENT
UID:69e688dac88da
DTSTART;TZID=America/Toronto:20181130T123000
SEQUENCE:0
TRANSP:TRANSPARENT
DTEND;TZID=America/Toronto:20181130T123000
URL:https://uwaterloo.ca/institute-for-quantum-computing/events/phd-seminar
 -explorations-quantum-theory-general-relativity
LOCATION:MC - Mathematics &amp; Computer Building 200 University Avenue West 63
 34 A Waterloo ON N2L 3G1 Canada
SUMMARY:PhD Seminar • Explorations in quantum theory\, general relativity
  and\ncosmology
CLASS:PUBLIC
DESCRIPTION:NADINE STRITZELBERGER \n\nIn this seminar I will discuss my res
 earch\, which is concerned with\nthree different topics in the related fie
 lds of Quantum Theory\,\nGeneral Relativity and Cosmology.
DTSTAMP:20260420T201314Z
END:VEVENT
END:VCALENDAR