BEGIN:VCALENDAR
VERSION:2.0
PRODID:-//Drupal iCal API//EN
X-WR-CALNAME:Events items teaser
X-WR-TIMEZONE:America/Toronto
BEGIN:VTIMEZONE
TZID:America/Toronto
X-LIC-LOCATION:America/Toronto
BEGIN:DAYLIGHT
TZNAME:EDT
TZOFFSETFROM:-0500
TZOFFSETTO:-0400
DTSTART:20180311T070000
END:DAYLIGHT
BEGIN:STANDARD
TZNAME:EST
TZOFFSETFROM:-0400
TZOFFSETTO:-0500
DTSTART:20181104T060000
END:STANDARD
END:VTIMEZONE
BEGIN:VEVENT
UID:69eb7fd82e572
DTSTART;TZID=America/Toronto:20181130T130000
SEQUENCE:0
TRANSP:TRANSPARENT
DTEND;TZID=America/Toronto:20181130T130000
URL:https://uwaterloo.ca/institute-for-quantum-computing/events/phd-thesis-
 defence-1
LOCATION:QNC - Quantum Nano Centre B204 Canada
SUMMARY:PhD Thesis Defence
CLASS:PUBLIC
DESCRIPTION:METHODS FOR PARALLEL QUANTUM CIRCUIT SYNTHESIS\, FAULT-TOLERANT
  QUANTUM\nRAM\, AND QUANTUM STATE TOMOGRAPHY\n\nPhD Candidate: Olivia Di M
 atteo\nSupervisor: Michele Mosca\n[https://services.iqc.uwaterloo.ca/peopl
 e/profile/mmosca/]\n\nThesis available from the Science graduate office\, 
 PHY 2013.\n\nOral defence in QNC B204.
DTSTAMP:20260424T143608Z
END:VEVENT
END:VCALENDAR