BEGIN:VCALENDAR
VERSION:2.0
PRODID:-//Drupal iCal API//EN
X-WR-CALNAME:Events items teaser
X-WR-TIMEZONE:America/Toronto
BEGIN:VTIMEZONE
TZID:America/Toronto
X-LIC-LOCATION:America/Toronto
BEGIN:DAYLIGHT
TZNAME:EDT
TZOFFSETFROM:-0500
TZOFFSETTO:-0400
DTSTART:20180311T070000
END:DAYLIGHT
BEGIN:STANDARD
TZNAME:EST
TZOFFSETFROM:-0400
TZOFFSETTO:-0500
DTSTART:20181104T060000
END:STANDARD
END:VTIMEZONE
BEGIN:VEVENT
UID:69e5853a0bce0
DTSTART;TZID=America/Toronto:20181130T143000
SEQUENCE:0
TRANSP:TRANSPARENT
DTEND;TZID=America/Toronto:20181130T143000
URL:https://uwaterloo.ca/institute-for-quantum-computing/events/steeped-tho
 ughts-feminism-material-and-method
LOCATION:PHY - Physics 200 University Avenue West 313 Waterloo ON N2L 3G1 C
 anada
SUMMARY:Steeped Thoughts: Feminism as Material and Method
CLASS:PUBLIC
DESCRIPTION:What does it mean to ask feminist questions of the worlds we st
 udy?\n\nJoin Aryn Martin from York University in a talk about addressing t
 his\nquestion and whether having more women in science is the same as\nhav
 ing more feminism in science.
DTSTAMP:20260420T014530Z
END:VEVENT
END:VCALENDAR