BEGIN:VCALENDAR
VERSION:2.0
PRODID:-//Drupal iCal API//EN
X-WR-CALNAME:Events items teaser
X-WR-TIMEZONE:America/Toronto
BEGIN:VTIMEZONE
TZID:America/Toronto
X-LIC-LOCATION:America/Toronto
BEGIN:DAYLIGHT
TZNAME:EDT
TZOFFSETFROM:-0500
TZOFFSETTO:-0400
DTSTART:20180311T070000
END:DAYLIGHT
BEGIN:STANDARD
TZNAME:EST
TZOFFSETFROM:-0400
TZOFFSETTO:-0500
DTSTART:20181104T060000
END:STANDARD
END:VTIMEZONE
BEGIN:VEVENT
UID:69e688e3ce201
DTSTART;TZID=America/Toronto:20181205T140000
SEQUENCE:0
TRANSP:TRANSPARENT
DTEND;TZID=America/Toronto:20181205T140000
URL:https://uwaterloo.ca/institute-for-quantum-computing/events/phd-seminar
 -quantum-computing-quantum-information-self
LOCATION:QNC - Quantum Nano Centre 200 University Avenue West 4104 Waterloo
  ON N2L 3G1 Canada
SUMMARY:PhD Seminar • Quantum computing / quantum information - self\nemb
 ezzlement using C*-dynamics
CLASS:PUBLIC
DESCRIPTION:LI LIU \n\nFollowing my previous seminar talk on embezzlement o
 f entanglement\,\nthis talk introduces a more general version of the probl
 em —\nself-embezzlement. Instead of embezzling a pair of entangled state
 \nfrom a catalyst\, self-embezzlement aims to create two copies of the\nca
 talyst state using only local operators. 
DTSTAMP:20260420T201323Z
END:VEVENT
END:VCALENDAR