BEGIN:VCALENDAR
VERSION:2.0
PRODID:-//Drupal iCal API//EN
X-WR-CALNAME:Events items teaser
X-WR-TIMEZONE:America/Toronto
BEGIN:VTIMEZONE
TZID:America/Toronto
X-LIC-LOCATION:America/Toronto
BEGIN:DAYLIGHT
TZNAME:EDT
TZOFFSETFROM:-0500
TZOFFSETTO:-0400
DTSTART:20180311T070000
END:DAYLIGHT
BEGIN:STANDARD
TZNAME:EST
TZOFFSETFROM:-0400
TZOFFSETTO:-0500
DTSTART:20181104T060000
END:STANDARD
END:VTIMEZONE
BEGIN:VEVENT
UID:69e688e1cf4b5
DTSTART;TZID=America/Toronto:20181206T130000
SEQUENCE:0
TRANSP:TRANSPARENT
DTEND;TZID=America/Toronto:20181206T130000
URL:https://uwaterloo.ca/institute-for-quantum-computing/events/masters-def
 ence
LOCATION:MC - Mathematics &amp; Computer Building 200 University Avenue West 40
 60 Waterloo ON N2L 3G1 Canada
SUMMARY:Master's Defence
CLASS:PUBLIC
DESCRIPTION:SHAPE AND CUTOFF IN SUPERCONDUCTING QUBITS\, WORK FLUCTUATIONS 
 IN\nCORRELATION CREATION\, AND CRITICAL COMMENTARY\n\nMaster's Candidate: 
 Emma McKay
DTSTAMP:20260420T201321Z
END:VEVENT
END:VCALENDAR