BEGIN:VCALENDAR
VERSION:2.0
PRODID:-//Drupal iCal API//EN
X-WR-CALNAME:Events items teaser
X-WR-TIMEZONE:America/Toronto
BEGIN:VTIMEZONE
TZID:America/Toronto
X-LIC-LOCATION:America/Toronto
BEGIN:DAYLIGHT
TZNAME:EDT
TZOFFSETFROM:-0500
TZOFFSETTO:-0400
DTSTART:20180311T070000
END:DAYLIGHT
BEGIN:STANDARD
TZNAME:EST
TZOFFSETFROM:-0400
TZOFFSETTO:-0500
DTSTART:20181104T060000
END:STANDARD
END:VTIMEZONE
BEGIN:VEVENT
UID:69e6239c52da5
DTSTART;TZID=America/Toronto:20181207T140000
SEQUENCE:0
TRANSP:TRANSPARENT
DTEND;TZID=America/Toronto:20181207T140000
URL:https://uwaterloo.ca/institute-for-quantum-computing/events/quantum-adv
 antage-learning-parity-noise
LOCATION:QNC - Quantum Nano Centre 200 University Avenue West 1201 Waterloo
  ON N2L 3G1 Canada
SUMMARY:Quantum Advantage in Learning Parity with Noise
CLASS:PUBLIC
DESCRIPTION:DANIEL KYUNGDEOCK PARK\, KOREA ADVANCED INSTITUTE OF SCIENCE AN
 D\nTECHNOLOGY\n\nMachine learning is an interesting family of problems for
  which\nnear-term quantum devices can provide considerable advantages. In\
 nparticular\, exponential quantum speedup is recently demonstrated in\nlea
 rning a Boolean function that calculates the parity of a randomly\nchosen 
 input bit string and a hidden bit string in the presence of\nnoise\, the p
 roblem known as learning parity with noise (LPN).
DTSTAMP:20260420T130116Z
END:VEVENT
END:VCALENDAR