BEGIN:VCALENDAR
VERSION:2.0
PRODID:-//Drupal iCal API//EN
X-WR-CALNAME:Events items teaser
X-WR-TIMEZONE:America/Toronto
BEGIN:VTIMEZONE
TZID:America/Toronto
X-LIC-LOCATION:America/Toronto
BEGIN:DAYLIGHT
TZNAME:EDT
TZOFFSETFROM:-0500
TZOFFSETTO:-0400
DTSTART:20180311T070000
END:DAYLIGHT
BEGIN:STANDARD
TZNAME:EST
TZOFFSETFROM:-0400
TZOFFSETTO:-0500
DTSTART:20181104T060000
END:STANDARD
END:VTIMEZONE
BEGIN:VEVENT
UID:69e6a262676f5
DTSTART;TZID=America/Toronto:20190125T120000
SEQUENCE:0
TRANSP:TRANSPARENT
DTEND;TZID=America/Toronto:20190125T120000
URL:https://uwaterloo.ca/institute-for-quantum-computing/events/cryptoworks
 21-dont-mess-my-code-0
LOCATION:QNC - Quantum Nano Centre 200 University Avenue West QNC 1201 Wate
 rloo ON N2L 3G1 Canada
SUMMARY:CryptoWorks21 - Don't mess with my code
CLASS:PUBLIC
DESCRIPTION:SPEAKER: Heather Hoff\n\nABSTRACT: Software is a key asset of a
 ny new business. How do you\nprotect the results of weeks or months of har
 d labour? Who owns the\nsoftware and how do I mange its development to ens
 ure its inherent\nvalue is maintained? Should I use Open Source\, or even 
 contribute to\nOpen Source? What are the benefits and how does this measur
 e up\nagainst the risks?
DTSTAMP:20260420T220210Z
END:VEVENT
END:VCALENDAR