BEGIN:VCALENDAR
VERSION:2.0
PRODID:-//Drupal iCal API//EN
X-WR-CALNAME:Events items teaser
X-WR-TIMEZONE:America/Toronto
BEGIN:VTIMEZONE
TZID:America/Toronto
X-LIC-LOCATION:America/Toronto
BEGIN:DAYLIGHT
TZNAME:EDT
TZOFFSETFROM:-0500
TZOFFSETTO:-0400
DTSTART:20180311T070000
END:DAYLIGHT
BEGIN:STANDARD
TZNAME:EST
TZOFFSETFROM:-0400
TZOFFSETTO:-0500
DTSTART:20181104T060000
END:STANDARD
END:VTIMEZONE
BEGIN:VEVENT
UID:69e67c026ec22
DTSTART;TZID=America/Toronto:20190111T130000
SEQUENCE:0
TRANSP:TRANSPARENT
DTEND;TZID=America/Toronto:20190111T130000
URL:https://uwaterloo.ca/institute-for-quantum-computing/events/quantum-ran
 gefinding
LOCATION:QNC 1201 Canada
SUMMARY:Quantum Rangefinding
CLASS:PUBLIC
DESCRIPTION:STEFAN FRICK\, UNIVERSITY OF BRISTOL\, UK\n\nRangefinding has 
 many applications in navigation\, civil engineer\,\nconstruction\, militar
 y\, surveillance and security. Most commonly\nrangefinders estimate the di
 stance to an object by measuring the time\nof flight of light for the jour
 ney to and returning from the target.\nConventional techniques use lasers 
 for illumination in state of the\nart rangefinding systems. However\, the 
 particular state of light\nlasers produce makes them easy to detect.
DTSTAMP:20260420T191826Z
END:VEVENT
END:VCALENDAR