BEGIN:VCALENDAR
VERSION:2.0
PRODID:-//Drupal iCal API//EN
X-WR-CALNAME:Events items teaser
X-WR-TIMEZONE:America/Toronto
BEGIN:VTIMEZONE
TZID:America/Toronto
X-LIC-LOCATION:America/Toronto
BEGIN:DAYLIGHT
TZNAME:EDT
TZOFFSETFROM:-0500
TZOFFSETTO:-0400
DTSTART:20180311T070000
END:DAYLIGHT
BEGIN:STANDARD
TZNAME:EST
TZOFFSETFROM:-0400
TZOFFSETTO:-0500
DTSTART:20181104T060000
END:STANDARD
END:VTIMEZONE
BEGIN:VEVENT
UID:69e6a260eb96d
DTSTART;TZID=America/Toronto:20190116T160000
SEQUENCE:0
TRANSP:TRANSPARENT
DTEND;TZID=America/Toronto:20190116T160000
URL:https://uwaterloo.ca/institute-for-quantum-computing/events/masters-def
 ence-0
LOCATION:QNC - Quantum Nano Centre 200 University Avenue West 4104 Waterloo
  ON N2L 3G1 Canada
SUMMARY:Master's Defence
CLASS:PUBLIC
DESCRIPTION:IMPACTS OF RELATIVITY ON LOCALIZABILITY AND VACUUM ENTANGLEMENT
 \n\nMaster's Candidate: Maria Papageorgiou \n\nMuch of the structure of q
 uantum field theory (QFT) is predicated on\nthe principle of locality. Ad
 herence to locality is pursuant to\nconvictions deduced from relativity\, 
 and is achieved in QFT by the\nassociation of regions of spacetime with al
 gebras of\nobservables. Although\, by construction\, the observables of Q
 FT are\nlocal objects\, one may also consider characterizing the spatial o
 r\nspacetime features of a state.
DTSTAMP:20260420T220208Z
END:VEVENT
END:VCALENDAR