BEGIN:VCALENDAR
VERSION:2.0
PRODID:-//Drupal iCal API//EN
X-WR-CALNAME:Events items teaser
X-WR-TIMEZONE:America/Toronto
BEGIN:VTIMEZONE
TZID:America/Toronto
X-LIC-LOCATION:America/Toronto
BEGIN:DAYLIGHT
TZNAME:EDT
TZOFFSETFROM:-0500
TZOFFSETTO:-0400
DTSTART:20180311T070000
END:DAYLIGHT
BEGIN:STANDARD
TZNAME:EST
TZOFFSETFROM:-0400
TZOFFSETTO:-0500
DTSTART:20181104T060000
END:STANDARD
END:VTIMEZONE
BEGIN:VEVENT
UID:69e65f481b962
DTSTART;TZID=America/Toronto:20190201T093000
SEQUENCE:0
TRANSP:TRANSPARENT
DTEND;TZID=America/Toronto:20190201T093000
URL:https://uwaterloo.ca/institute-for-quantum-computing/events/phd-thesis-
 defence-3
LOCATION:QNC - Quantum Nano Centre QNC 0101 Canada
SUMMARY:PhD Thesis Defence
CLASS:PUBLIC
DESCRIPTION:ULTRAFAST METROLOGY IN THE QUANTUM DOMAIN\n\nPhD Candidate: Jea
 n-Philippe MacLean\nSupervisor: Kevin Resch\n[https://services.iqc.uwaterl
 oo.ca/people/profile/kresch/]\n\nPhD thesis presentation in QNC 0101.
DTSTAMP:20260420T171552Z
END:VEVENT
END:VCALENDAR