BEGIN:VCALENDAR
VERSION:2.0
PRODID:-//Drupal iCal API//EN
X-WR-CALNAME:Events items teaser
X-WR-TIMEZONE:America/Toronto
BEGIN:VTIMEZONE
TZID:America/Toronto
X-LIC-LOCATION:America/Toronto
BEGIN:DAYLIGHT
TZNAME:EDT
TZOFFSETFROM:-0500
TZOFFSETTO:-0400
DTSTART:20180311T070000
END:DAYLIGHT
BEGIN:STANDARD
TZNAME:EST
TZOFFSETFROM:-0400
TZOFFSETTO:-0500
DTSTART:20181104T060000
END:STANDARD
END:VTIMEZONE
BEGIN:VEVENT
UID:69e67bff6d757
DTSTART;TZID=America/Toronto:20190121T143000
SEQUENCE:0
TRANSP:TRANSPARENT
DTEND;TZID=America/Toronto:20190121T143000
URL:https://uwaterloo.ca/institute-for-quantum-computing/events/nanostructu
 red-flash-memory-devices-based-radical-polymers
LOCATION:C2 - Chemistry 2 200 University Avenue West 361 Waterloo ON N2L 3G
 1 Canada
SUMMARY:Nanostructured flash memory devices based on radical polymers and\n
 carbon-based nanomaterials
CLASS:PUBLIC
DESCRIPTION:GIOVANNI FANCHINI\, WESTERN UNIVERSITY\n\nIn this talk\, we wil
 l review the use of thin films of organic\npolyradicals – organic polyme
 rs with one unpaired electron per\nmonomer [1] – for memory devices and 
 other applications. Although\nmemory devices based on radical polymers hav
 e been often proposed\,\ntheir stability was frequently limited to a few w
 riting cycles\,\ndespite the excellent quality of the active layer.
DTSTAMP:20260420T191823Z
END:VEVENT
END:VCALENDAR