BEGIN:VCALENDAR
VERSION:2.0
PRODID:-//Drupal iCal API//EN
X-WR-CALNAME:Events items teaser
X-WR-TIMEZONE:America/Toronto
BEGIN:VTIMEZONE
TZID:America/Toronto
X-LIC-LOCATION:America/Toronto
BEGIN:DAYLIGHT
TZNAME:EDT
TZOFFSETFROM:-0500
TZOFFSETTO:-0400
DTSTART:20180311T070000
END:DAYLIGHT
BEGIN:STANDARD
TZNAME:EST
TZOFFSETFROM:-0400
TZOFFSETTO:-0500
DTSTART:20181104T060000
END:STANDARD
END:VTIMEZONE
BEGIN:VEVENT
UID:69e6cb2b02f69
DTSTART;TZID=America/Toronto:20190220T110000
SEQUENCE:0
TRANSP:TRANSPARENT
DTEND;TZID=America/Toronto:20190220T110000
URL:https://uwaterloo.ca/institute-for-quantum-computing/events/microwave-o
 ptomechanical-circuit-parametric-mechanical
LOCATION:QNC - Quantum Nano Centre 200 University Avenue West 1201 Waterloo
  ON N2L 3G1 Canada
SUMMARY:A microwave optomechanical circuit with parametric mechanical drivi
 ng
CLASS:PUBLIC
DESCRIPTION:SHUN YANAI\, DELFT UNIVERSITY OF TECHNOLOGY\n\nMicrowave optome
 chanical circuits have been demonstrated in the past\nyears to be powerful
  tools for both\, exploring fundamental physics of\nmacroscopic and massiv
 e quantum objects as well as being promising\ncandidates for novel on-chip
  quantum limited microwave devices. In\nthis work\, we explore a microwave
  optomechanical device consisting of\na coplanar microwave cavity coupled 
 to a mechanical high quality\nfactor nanobeam resonator.
DTSTAMP:20260421T005611Z
END:VEVENT
END:VCALENDAR