BEGIN:VCALENDAR
VERSION:2.0
PRODID:-//Drupal iCal API//EN
X-WR-CALNAME:Events items teaser
X-WR-TIMEZONE:America/Toronto
BEGIN:VTIMEZONE
TZID:America/Toronto
X-LIC-LOCATION:America/Toronto
BEGIN:DAYLIGHT
TZNAME:EDT
TZOFFSETFROM:-0500
TZOFFSETTO:-0400
DTSTART:20180311T070000
END:DAYLIGHT
BEGIN:STANDARD
TZNAME:EST
TZOFFSETFROM:-0400
TZOFFSETTO:-0500
DTSTART:20181104T060000
END:STANDARD
END:VTIMEZONE
BEGIN:VEVENT
UID:69e6032aaa2f8
DTSTART;TZID=America/Toronto:20190214T133000
SEQUENCE:0
TRANSP:TRANSPARENT
DTEND;TZID=America/Toronto:20190214T133000
URL:https://uwaterloo.ca/institute-for-quantum-computing/events/quantized-s
 tates-berry-phases-and-quantum-hall-wedding-cake
LOCATION:QNC - Quantum Nano Centre 200 University Avenue West 0101 Waterloo
  ON N2L 3G1 Canada
SUMMARY:Quantized States\, Berry Phases\, and Quantum-Hall Wedding-Cake\nst
 ructures in Graphene Quantum Dots
CLASS:PUBLIC
DESCRIPTION:FERESHTE GHAHARI KERMANI\, NATIONAL INSTITUTE OF STANDARDS AND\
 nTECHNOLOGY (NIST)\n\nRecent progress in creating graphene quantum dots (Q
 Ds) with fixed\nbuild-in potentials has offered a new platform to visualiz
 e and probe\nthe confined electronic states. In this talk\, I describe sca
 nning\ntunneling spectroscopy measurements of the energy spectrum of graph
 ene\nQDs as a function of energy\, spatial position\, and magnetic field.
DTSTAMP:20260420T104250Z
END:VEVENT
END:VCALENDAR