BEGIN:VCALENDAR
VERSION:2.0
PRODID:-//Drupal iCal API//EN
X-WR-CALNAME:Events items teaser
X-WR-TIMEZONE:America/Toronto
BEGIN:VTIMEZONE
TZID:America/Toronto
X-LIC-LOCATION:America/Toronto
BEGIN:DAYLIGHT
TZNAME:EDT
TZOFFSETFROM:-0500
TZOFFSETTO:-0400
DTSTART:20180311T070000
END:DAYLIGHT
BEGIN:STANDARD
TZNAME:EST
TZOFFSETFROM:-0400
TZOFFSETTO:-0500
DTSTART:20181104T060000
END:STANDARD
END:VTIMEZONE
BEGIN:VEVENT
UID:69e6ad18de48b
DTSTART;TZID=America/Toronto:20190208T133000
SEQUENCE:0
TRANSP:TRANSPARENT
DTEND;TZID=America/Toronto:20190208T133000
URL:https://uwaterloo.ca/institute-for-quantum-computing/events/parallel-re
 petition-non-local-games
LOCATION:MC - Mathematics &amp; Computer Building 200 University Avenue West 54
 13 Waterloo ON N2L 3G1 Canada
SUMMARY:Parallel repetition for non-local games
CLASS:PUBLIC
DESCRIPTION:ARTHUR MEHTA\, IQC\n\nNon-local games\, also known as interacti
 ve proof systems\, have long\nbeen an important area of study for mathemat
 icians\, physicists and\ncomputer scientists. Starting with the famous CHS
 H game in 1969\, it\nhas been known that non-local games are also an ideal
  area to explore\nthe differences between quantum and classical behaviour.
  This has\nmotivated the study of the area of non-local games for people w
 orking\nin quantum information.
DTSTAMP:20260420T224752Z
END:VEVENT
END:VCALENDAR