BEGIN:VCALENDAR
VERSION:2.0
PRODID:-//Drupal iCal API//EN
X-WR-CALNAME:Events items teaser
X-WR-TIMEZONE:America/Toronto
BEGIN:VTIMEZONE
TZID:America/Toronto
X-LIC-LOCATION:America/Toronto
BEGIN:DAYLIGHT
TZNAME:EDT
TZOFFSETFROM:-0500
TZOFFSETTO:-0400
DTSTART:20180311T070000
END:DAYLIGHT
BEGIN:STANDARD
TZNAME:EST
TZOFFSETFROM:-0400
TZOFFSETTO:-0500
DTSTART:20181104T060000
END:STANDARD
END:VTIMEZONE
BEGIN:VEVENT
UID:69e67c00e7c4d
DTSTART;TZID=America/Toronto:20190213T133000
SEQUENCE:0
TRANSP:TRANSPARENT
DTEND;TZID=America/Toronto:20190213T133000
URL:https://uwaterloo.ca/institute-for-quantum-computing/events/microwave-q
 uantum-devices-based-josephson-photonics
LOCATION:QNC - Quantum Nano Centre 200 University Avenue West 1201 Waterloo
  ON N2L 3G1 Canada
SUMMARY:Microwave quantum devices based on Josephson photonics
CLASS:PUBLIC
DESCRIPTION:MAX HOFHEINZ\, UNIVERSITY OF SHERBROOKE\n\nIn superconducting q
 uantum circuits the Josephson junction is the key\nelement because it is t
 he only strongly nonlinear and dissipationless\ncircuit element we know. U
 sually it is used in the superconducting\nstate where it acts as a nonline
 ar inductor\, for example in Josephson\nqubits or Josephson parametric amp
 lifiers. But a Josephson junction\ncan also be nonlinear and dissipationle
 ss when a non-zero DC voltage\nbelow the gap is applied.
DTSTAMP:20260420T191824Z
END:VEVENT
END:VCALENDAR