BEGIN:VCALENDAR
VERSION:2.0
PRODID:-//Drupal iCal API//EN
X-WR-CALNAME:Events items teaser
X-WR-TIMEZONE:America/Toronto
BEGIN:VTIMEZONE
TZID:America/Toronto
X-LIC-LOCATION:America/Toronto
BEGIN:DAYLIGHT
TZNAME:EDT
TZOFFSETFROM:-0500
TZOFFSETTO:-0400
DTSTART:20180311T070000
END:DAYLIGHT
BEGIN:STANDARD
TZNAME:EST
TZOFFSETFROM:-0400
TZOFFSETTO:-0500
DTSTART:20181104T060000
END:STANDARD
END:VTIMEZONE
BEGIN:VEVENT
UID:69e688d74f9f7
DTSTART;TZID=America/Toronto:20190214T130000
SEQUENCE:0
TRANSP:TRANSPARENT
DTEND;TZID=America/Toronto:20190214T130000
URL:https://uwaterloo.ca/institute-for-quantum-computing/events/phd-thesis-
 defence-4
LOCATION:EIT - Centre for Environmental and Information Technology 200 Univ
 ersity Avenue West 3142 Waterloo ON N2L 3G1 Canada
SUMMARY:PhD Thesis Defence
CLASS:PUBLIC
DESCRIPTION:MULTI-LEVEL CONTROL IN LARGE-ANHARMONICITY HIGH-COHERENCE CAPAC
 ITIVELY\nSHUNTED FLUX QUBITS\n\nPhD Candidate: Muhammet Yurtalan\nSupervis
 ors: Adrian Lupascu\n[https://services.iqc.uwaterloo.ca/people/profile/alu
 pascu/] and\nZbigniew Wasilewski\n[https://services.iqc.uwaterloo.ca/peopl
 e/profile/zwasilew/]\n\nThesis on display in the Engineering graduate offi
 ce\, E7-7402.\n\nOral defence in EIT 3142.
DTSTAMP:20260420T201311Z
END:VEVENT
END:VCALENDAR