BEGIN:VCALENDAR
VERSION:2.0
PRODID:-//Drupal iCal API//EN
X-WR-CALNAME:Events items teaser
X-WR-TIMEZONE:America/Toronto
BEGIN:VTIMEZONE
TZID:America/Toronto
X-LIC-LOCATION:America/Toronto
BEGIN:DAYLIGHT
TZNAME:EDT
TZOFFSETFROM:-0500
TZOFFSETTO:-0400
DTSTART:20180311T070000
END:DAYLIGHT
BEGIN:STANDARD
TZNAME:EST
TZOFFSETFROM:-0400
TZOFFSETTO:-0500
DTSTART:20181104T060000
END:STANDARD
END:VTIMEZONE
BEGIN:VEVENT
UID:69e67c0becf0b
DTSTART;TZID=America/Toronto:20190225T143000
SEQUENCE:0
TRANSP:TRANSPARENT
DTEND;TZID=America/Toronto:20190225T143000
URL:https://uwaterloo.ca/institute-for-quantum-computing/events/battling-re
 alm-topological-superconductor-candidate-sr2ruo4
LOCATION:QNC - Quantum Nano Centre 200 University Avenue West 0101 Waterloo
  ON N2L 3G1 Canada
SUMMARY:Battling in the realm of a topological superconductor candidate:\nS
 r2RuO4
CLASS:PUBLIC
DESCRIPTION:WEN HUANG\, SHENZHEN PENG CHENG LABORATORY\n\nSince its discove
 ry in 1994\, the unconventional superconductivity in\nSr2RuO4 has attracte
 d tremendous interest. The prospect of it being a\ntopological chiral p-wa
 ve superconductor\, which supports Majorana\nfermions\, makes it a potenti
 al solid state platform for topological\nquantum computation. However\, de
 spite the multiple signatures in\nsupport of chiral p-wave pairing\, a num
 ber of key measurements in the\nlast decade have called into question this
  interpretation.
DTSTAMP:20260420T191835Z
END:VEVENT
END:VCALENDAR