BEGIN:VCALENDAR
VERSION:2.0
PRODID:-//Drupal iCal API//EN
X-WR-CALNAME:Events items teaser
X-WR-TIMEZONE:America/Toronto
BEGIN:VTIMEZONE
TZID:America/Toronto
X-LIC-LOCATION:America/Toronto
BEGIN:DAYLIGHT
TZNAME:EDT
TZOFFSETFROM:-0500
TZOFFSETTO:-0400
DTSTART:20180311T070000
END:DAYLIGHT
BEGIN:STANDARD
TZNAME:EST
TZOFFSETFROM:-0400
TZOFFSETTO:-0500
DTSTART:20181104T060000
END:STANDARD
END:VTIMEZONE
BEGIN:VEVENT
UID:69e6bbc97880f
DTSTART;TZID=America/Toronto:20190222T103000
SEQUENCE:0
TRANSP:TRANSPARENT
DTEND;TZID=America/Toronto:20190222T103000
URL:https://uwaterloo.ca/institute-for-quantum-computing/events/exploring-s
 ynthetic-quantum-matter-superconducting-circuits-0
LOCATION:QNC - Quantum Nano Centre 200 University Avenue West 0101 Waterloo
  ON N2L 3G1 Canada
SUMMARY:Exploring Synthetic Quantum Matter in Superconducting Circuits
CLASS:PUBLIC
DESCRIPTION:ALEX RUICHAO MA\, UNIVERSITY OF CHICAGO\n\nSuperconducting circ
 uits have emerged as a competitive platform for\nquantum computation\, sat
 isfying the challenges of controllability\,\nlong coherence and strong int
 eractions. Here we apply this toolbox to\nthe exploration of strongly corr
 elated quantum materials made of\nmicrowave photons. We develop a versatil
 e recipe that uses engineered\ndissipation to stabilize many-body phases\,
  protecting them against\nintrinsic photon losses.
DTSTAMP:20260420T235033Z
END:VEVENT
END:VCALENDAR