BEGIN:VCALENDAR
VERSION:2.0
PRODID:-//Drupal iCal API//EN
X-WR-CALNAME:Events items teaser
X-WR-TIMEZONE:America/Toronto
BEGIN:VTIMEZONE
TZID:America/Toronto
X-LIC-LOCATION:America/Toronto
BEGIN:DAYLIGHT
TZNAME:EDT
TZOFFSETFROM:-0500
TZOFFSETTO:-0400
DTSTART:20180311T070000
END:DAYLIGHT
BEGIN:STANDARD
TZNAME:EST
TZOFFSETFROM:-0400
TZOFFSETTO:-0500
DTSTART:20181104T060000
END:STANDARD
END:VTIMEZONE
BEGIN:VEVENT
UID:69e6032b2990a
DTSTART;TZID=America/Toronto:20190225T133000
SEQUENCE:0
TRANSP:TRANSPARENT
DTEND;TZID=America/Toronto:20190225T133000
URL:https://uwaterloo.ca/institute-for-quantum-computing/events/continuing-
 parallel-repetition
LOCATION:MC - Mathematics &amp; Computer Building 200 University Avenue West 54
 03 Waterloo ON N2L 3G1 Canada
SUMMARY:Continuing on Parallel Repetition
CLASS:PUBLIC
DESCRIPTION:ARTHUR MEHTA\, IQC / DEPARTMENT OF PURE MATHEMATICS\n\nIn this 
 talk we continue our discussion of parallel repetition for\nnon-local game
 s. We will begin with a brief recap of the previous talk\nand the famous c
 ounterexample due to Feige. We then take a  look at a\ngame that has inte
 resting outcomes in the context of the quantum\ntensor product model. We w
 ill conclude by reviewing some of the major\nresults on this topic for a v
 ariety of correlation sets.
DTSTAMP:20260420T104251Z
END:VEVENT
END:VCALENDAR