BEGIN:VCALENDAR
VERSION:2.0
PRODID:-//Drupal iCal API//EN
X-WR-CALNAME:Events items teaser
X-WR-TIMEZONE:America/Toronto
BEGIN:VTIMEZONE
TZID:America/Toronto
X-LIC-LOCATION:America/Toronto
BEGIN:DAYLIGHT
TZNAME:EDT
TZOFFSETFROM:-0500
TZOFFSETTO:-0400
DTSTART:20180311T070000
END:DAYLIGHT
BEGIN:STANDARD
TZNAME:EST
TZOFFSETFROM:-0400
TZOFFSETTO:-0500
DTSTART:20181104T060000
END:STANDARD
END:VTIMEZONE
BEGIN:VEVENT
UID:69e60327aa5f4
DTSTART;TZID=America/Toronto:20190225T160000
SEQUENCE:0
TRANSP:TRANSPARENT
DTEND;TZID=America/Toronto:20190225T160000
URL:https://uwaterloo.ca/institute-for-quantum-computing/events/applied-mat
 h-grad-colloquium-i-polar-decomposition-quantum
LOCATION:MC - Mathematics &amp; Computer Building 200 University Avenue West 64
 60 Waterloo ON N2L 3G1 Canada
SUMMARY:Applied Math Grad Colloquium I A polar decomposition for quantum\nc
 hannels to track error features in large circuits
CLASS:PUBLIC
DESCRIPTION:ARNAUD CARIGNAN-DUGAS\, IQC / DEPARTMENT OF APPLIED MATHEMATICS
 \n\nInevitably\, assessing the overall performance of a quantum computer\n
 must rely on characterizing some of its elementary constituents and\,\nfro
 m this information\, formulate a broader statement concerning more\ncomple
 x constructions thereof. However\, given the vastitude of\npossible quant
 um errors as well as their coherent nature\, accurately\ninferring the qua
 lity of composite operations is generally difficult.
DTSTAMP:20260420T104247Z
END:VEVENT
END:VCALENDAR