BEGIN:VCALENDAR
VERSION:2.0
PRODID:-//Drupal iCal API//EN
X-WR-CALNAME:Events items teaser
X-WR-TIMEZONE:America/Toronto
BEGIN:VTIMEZONE
TZID:America/Toronto
X-LIC-LOCATION:America/Toronto
BEGIN:DAYLIGHT
TZNAME:EDT
TZOFFSETFROM:-0500
TZOFFSETTO:-0400
DTSTART:20180311T070000
END:DAYLIGHT
BEGIN:STANDARD
TZNAME:EST
TZOFFSETFROM:-0400
TZOFFSETTO:-0500
DTSTART:20181104T060000
END:STANDARD
END:VTIMEZONE
BEGIN:VEVENT
UID:69e6032daec52
DTSTART;TZID=America/Toronto:20190228T133000
SEQUENCE:0
TRANSP:TRANSPARENT
DTEND;TZID=America/Toronto:20190228T133000
URL:https://uwaterloo.ca/institute-for-quantum-computing/events/quantum-ass
 isted-magnetic-resonance-across-length-scales
LOCATION:QNC - Quantum Nano Centre 200 University Avenue West 0101 Waterloo
  ON N2L 3G1 Canada
SUMMARY:\"Quantum-assisted\" magnetic resonance across length scales
CLASS:PUBLIC
DESCRIPTION:ASHOK AJOY\, UNIVERSITY OF CALIFORNIA\, BERKELEY\n\nThe develop
 ment of atom-like quantum sensors in wide bandgap\nmaterials\, for instanc
 e Nitrogen Vacancy (NV) centers in diamond\, has\nthrown up exciting new p
 ossibilities for the sensing of materials\,\nmolecules and biological syst
 ems through optical means. In particular\nI will describe the development 
 of “quantum-assisted” magnetic\nresonance probes based on the NV cente
 r that allows sensing of nano-\nand meso-scale volumes at high spatial and
  frequency resolution [1\,2].
DTSTAMP:20260420T104253Z
END:VEVENT
END:VCALENDAR