BEGIN:VCALENDAR
VERSION:2.0
PRODID:-//Drupal iCal API//EN
X-WR-CALNAME:Events items teaser
X-WR-TIMEZONE:America/Toronto
BEGIN:VTIMEZONE
TZID:America/Toronto
X-LIC-LOCATION:America/Toronto
BEGIN:DAYLIGHT
TZNAME:EDT
TZOFFSETFROM:-0500
TZOFFSETTO:-0400
DTSTART:20180311T070000
END:DAYLIGHT
BEGIN:STANDARD
TZNAME:EST
TZOFFSETFROM:-0400
TZOFFSETTO:-0500
DTSTART:20181104T060000
END:STANDARD
END:VTIMEZONE
BEGIN:VEVENT
UID:69e621af68425
DTSTART;TZID=America/Toronto:20190228T133000
SEQUENCE:0
TRANSP:TRANSPARENT
DTEND;TZID=America/Toronto:20190228T133000
URL:https://uwaterloo.ca/institute-for-quantum-computing/events/dynamic-nuc
 lear-polarization-phosphorus-doped-silicon
LOCATION:QNC - Quantum Nano Centre 200 University Avenue West Waterloo ON N
 2L 3G1 Canada
SUMMARY:Dynamic nuclear polarization in phosphorus doped silicon
CLASS:PUBLIC
DESCRIPTION:Speaker: Rahul Deshpande\n\nTitle: Dynamic nuclear polarizat
 ion in phosphorus doped silicon
DTSTAMP:20260420T125303Z
END:VEVENT
END:VCALENDAR