BEGIN:VCALENDAR
VERSION:2.0
PRODID:-//Drupal iCal API//EN
X-WR-CALNAME:Events items teaser
X-WR-TIMEZONE:America/Toronto
BEGIN:VTIMEZONE
TZID:America/Toronto
X-LIC-LOCATION:America/Toronto
BEGIN:DAYLIGHT
TZNAME:EDT
TZOFFSETFROM:-0500
TZOFFSETTO:-0400
DTSTART:20190310T070000
END:DAYLIGHT
BEGIN:STANDARD
TZNAME:EST
TZOFFSETFROM:-0400
TZOFFSETTO:-0500
DTSTART:20181104T060000
END:STANDARD
END:VTIMEZONE
BEGIN:VEVENT
UID:69e6cb2903d32
DTSTART;TZID=America/Toronto:20190318T132000
SEQUENCE:0
TRANSP:TRANSPARENT
DTEND;TZID=America/Toronto:20190318T132000
URL:https://uwaterloo.ca/institute-for-quantum-computing/events/gap-indepen
 dent-cooling-and-hybrid-quantum-classical
LOCATION:QNC - Quantum Nano Centre 200 University Avenue West 1201 Waterloo
  ON N2L 3G1 Canada
SUMMARY:Gap-independent cooling and hybrid quantum-classical annealing (HQC
 A)
CLASS:PUBLIC
DESCRIPTION:PETER SCHUMACHER\, SAARLAND UNIVERSITY\n\nWe present an efficie
 nt gap-independent cooling scheme for a quantum\nannealer that benefits fr
 om finite temperatures.
DTSTAMP:20260421T005609Z
END:VEVENT
END:VCALENDAR