BEGIN:VCALENDAR
VERSION:2.0
PRODID:-//Drupal iCal API//EN
X-WR-CALNAME:Events items teaser
X-WR-TIMEZONE:America/Toronto
BEGIN:VTIMEZONE
TZID:America/Toronto
X-LIC-LOCATION:America/Toronto
BEGIN:DAYLIGHT
TZNAME:EDT
TZOFFSETFROM:-0500
TZOFFSETTO:-0400
DTSTART:20190310T070000
END:DAYLIGHT
BEGIN:STANDARD
TZNAME:EST
TZOFFSETFROM:-0400
TZOFFSETTO:-0500
DTSTART:20181104T060000
END:STANDARD
END:VTIMEZONE
BEGIN:VEVENT
UID:69e621b0d069f
DTSTART;TZID=America/Toronto:20190313T140000
SEQUENCE:0
TRANSP:TRANSPARENT
DTEND;TZID=America/Toronto:20190313T140000
URL:https://uwaterloo.ca/institute-for-quantum-computing/events/quantum-coh
 erence-manipulation-finite-resources
LOCATION:QNC - Quantum Nano Centre 200 University Avenue West 1201 Waterloo
  ON N2L 3G1 Canada
SUMMARY:Quantum coherence manipulation with finite resources
CLASS:PUBLIC
DESCRIPTION:KUN FANG\, UNIVERSITY OF CAMBRIDGE\n\nAs a more general form of
  quantum superposition\, quantum coherence\nrepresents one of the most fun
 damental features that set the\ndifference of quantum mechanics from the c
 lassical realm. In this\ntalk\, we will use the tool of semidefinite progr
 amming to study two\nfundamental tasks relating quantum coherence\, i.e.\,
  coherence\ndistillation of quantum states and coherence cost of quantum\n
 processes.
DTSTAMP:20260420T125304Z
END:VEVENT
END:VCALENDAR