BEGIN:VCALENDAR
VERSION:2.0
PRODID:-//Drupal iCal API//EN
X-WR-CALNAME:Events items teaser
X-WR-TIMEZONE:America/Toronto
BEGIN:VTIMEZONE
TZID:America/Toronto
X-LIC-LOCATION:America/Toronto
BEGIN:DAYLIGHT
TZNAME:EDT
TZOFFSETFROM:-0500
TZOFFSETTO:-0400
DTSTART:20190310T070000
END:DAYLIGHT
BEGIN:STANDARD
TZNAME:EST
TZOFFSETFROM:-0400
TZOFFSETTO:-0500
DTSTART:20181104T060000
END:STANDARD
END:VTIMEZONE
BEGIN:VEVENT
UID:69e688d65436b
DTSTART;TZID=America/Toronto:20190401T100000
SEQUENCE:0
TRANSP:TRANSPARENT
DTEND;TZID=America/Toronto:20190401T100000
URL:https://uwaterloo.ca/institute-for-quantum-computing/events/masters-def
 ence-1
LOCATION:MC - Mathematics &amp; Computer Building 200 University Avenue West 54
 17 Waterloo ON N2L 3G1 Canada
SUMMARY:Master's Defence
CLASS:PUBLIC
DESCRIPTION:THREE RESULTS IN QUANTUM PHYSICS\n\nMaster's Candidate: Jaron H
 uq
DTSTAMP:20260420T201310Z
END:VEVENT
END:VCALENDAR