BEGIN:VCALENDAR
VERSION:2.0
PRODID:-//Drupal iCal API//EN
X-WR-CALNAME:Events items teaser
X-WR-TIMEZONE:America/Toronto
BEGIN:VTIMEZONE
TZID:America/Toronto
X-LIC-LOCATION:America/Toronto
BEGIN:DAYLIGHT
TZNAME:EDT
TZOFFSETFROM:-0500
TZOFFSETTO:-0400
DTSTART:20190310T070000
END:DAYLIGHT
BEGIN:STANDARD
TZNAME:EST
TZOFFSETFROM:-0400
TZOFFSETTO:-0500
DTSTART:20181104T060000
END:STANDARD
END:VTIMEZONE
BEGIN:VEVENT
UID:69e67bfa6aa99
DTSTART;TZID=America/Toronto:20190412T101500
SEQUENCE:0
TRANSP:TRANSPARENT
DTEND;TZID=America/Toronto:20190412T101500
URL:https://uwaterloo.ca/institute-for-quantum-computing/events/approximate
 -qldpc-codes-spacetime-hamiltonians
LOCATION:QNC - Quantum Nano Centre 200 University Avenue West 1201 Waterloo
  ON N2L 3G1 Canada
SUMMARY:Approximate QLDPC codes from spacetime Hamiltonians
CLASS:PUBLIC
DESCRIPTION:CHINMAY NIRKHE\, UNIVERSITY OF CALIFORNIA\, BERKELEY\n\nWe stud
 y approximate quantum low-density parity-check (QLDPC) codes\,\nwhich are
  approximate quantum error-correcting codes specified as\nthe ground spa
 ce of a frustration-free local Hamiltonian\, whose terms\ndo not necessari
 ly commute.\nSuch codes generalize stabilizer QLDPC codes\, which are
  exact\nquantum error-correcting codes with sparse\,\nlow-weight stabil
 izer generators (i.e. each stabilizergenerator\nacts on a few qubits\, a
 nd each qubit participates in a\nfew stabilizer generators).
DTSTAMP:20260420T191818Z
END:VEVENT
END:VCALENDAR