BEGIN:VCALENDAR
VERSION:2.0
PRODID:-//Drupal iCal API//EN
X-WR-CALNAME:Events items teaser
X-WR-TIMEZONE:America/Toronto
BEGIN:VTIMEZONE
TZID:America/Toronto
X-LIC-LOCATION:America/Toronto
BEGIN:DAYLIGHT
TZNAME:EDT
TZOFFSETFROM:-0500
TZOFFSETTO:-0400
DTSTART:20190310T070000
END:DAYLIGHT
BEGIN:STANDARD
TZNAME:EST
TZOFFSETFROM:-0400
TZOFFSETTO:-0500
DTSTART:20181104T060000
END:STANDARD
END:VTIMEZONE
BEGIN:VEVENT
UID:69e6cb26014aa
DTSTART;TZID=America/Toronto:20190408T080000
SEQUENCE:0
TRANSP:TRANSPARENT
DTEND;TZID=America/Toronto:20190408T080000
URL:https://uwaterloo.ca/institute-for-quantum-computing/events/qi-masc-sem
 inar-overcoming-synthesizer-phase-noise-quantum
LOCATION:RAC2 200 University Avenue West 1101 Waterloo ON N2L 3G1 Canada
SUMMARY:QI MASc Seminar: Overcoming Synthesizer Phase Noise in Quantum Sens
 ing
CLASS:PUBLIC
DESCRIPTION:Candidate: Guofei Long\n\nSupervisors: David Cory and Guo-Xing 
 Miao
DTSTAMP:20260421T005606Z
END:VEVENT
END:VCALENDAR